Workbook

Sheet TUYENSINH
C1: 2017 | H1: 2018 | I1: 2019 | J1: 2020
A2: Ô tô | C2: 948 | D2: 1000 | E2: =D2*10%+D2 -> 1100 | F2: =E2*10%+E2 -> 1210 | H2: =C2+D2 -> 1948 | I2: =H2+E2 -> 3048 | J2: =(I2+F2)-C2 -> 3310
C3: 229 | D3: 250 | E3: =D3*10%+D3 -> 275 | F3: =E3*10%+E3 -> 302.5 | H3: =D3+C3 -> 479 | I3: =(H3+D3)-C3 -> 500 | J3: =(I3+F3)-D3 -> 552.5
A5: CK chế tạo | C5: 153 | D5: 150 | E5: =D5*10%+D5 -> 165 | F5: =E5*10%+E5 -> 181.5 | H5: =D5+C5 -> 303 | I5: =(H5+D5)-C5 -> 300 | J5: =(I5+F5)-D5 -> 331.5
A9: Điện CN | C9: 273 | D9: 300 | E9: =D9*10%+D9 -> 330 | F9: =E9*10%+E9 -> 363 | H9: =C9+D9 -> 573 | I9: =H9+E9 -> 903 | J9: =(I9+F9)-C9 -> 993
C10: 118 | D10: 150 | E10: =D10*10%+D10 -> 165 | F10: =E10*10%+E10 -> 181.5 | H10: =D10+C10 -> 268 | I10: =(H10+D10)-C10 -> 300 | J10: =(I10+F10)-D10 -> 331.5
A13: Cơ điện tử | C13: 72 | D13: 100 | E13: =D13*10%+D13 -> 110 | F13: =E13*10%+E13 -> 121 | H13: =C13+D13 -> 172 | I13: =H13+E13 -> 282 | J13: =(I13+F13)-C13 -> 331
D14: 50 | E14: =D14*10%+D14 -> 55 | F14: =E14*10%+E14 -> 60.5 | H14: =D14+C14 -> 50 | I14: =(H14+D14)-C14 -> 100 | J14: =(I14+F14)-D14 -> 110.5
A18: CN KT Cơ khí | C18: 575 | D18: 600 | E18: =D18*10%+D18 -> 660 | F18: =E18*10%+E18 -> 726 | H18: =C18+D18 -> 1175 | I18: =H18+E18 -> 1835 | J18: =(I18+F18)-C18 -> 1986
C19: 103 | D19: 150 | E19: =D19*10%+D19 -> 165 | F19: =E19*10%+E19 -> 181.5 | H19: =D19+C19 -> 253 | I19: =(H19+D19)-C19 -> 300 | J19: =(I19+F19)-D19 -> 331.5
A21: CNKTĐDT | C21: 374 | D21: 400 | E21: =D21*10%+D21 -> 440 | F21: =E21*10%+E21 -> 484 | H21: =C21+D21 -> 774 | I21: =H21+E21 -> 1214 | J21: =(I21+F21)-C21 -> 1324
C22: 65 | D22: 100 | E22: =D22*10%+D22 -> 110 | F22: =E22*10%+E22 -> 121 | H22: =D22+C22 -> 165 | I22: =(H22+D22)-C22 -> 200 | J22: =(I22+F22)-D22 -> 221
A24: QTMMT | C24: 82 | D24: 100 | E24: =D24*10%+D24 -> 110 | F24: =E24*10%+E24 -> 121 | H24: =C24+D24 -> 182 | I24: =H24+E24 -> 292 | J24: =(I24+F24)-C24 -> 331
C25: 133 | D25: 150 | E25: =D25*10%+D25 -> 165 | F25: =E25*10%+E25 -> 181.5 | H25: =D25+C25 -> 283 | I25: =(H25+D25)-C25 -> 300 | J25: =(I25+F25)-D25 -> 331.5
D26: =SUM(D2:D25) -> 3500 | E26: =SUM(E2:E25) -> 3850 | F26: =SUM(F2:F25) -> 4235 | H26: =SUM(H2:H25) -> 6625 | I26: =SUM(I2:I25) -> 9574 | J26: =SUM(J2:J25) -> 10485

Sheet CHUONGTRINH
A1: STT | B1: NỘI DUNG THỰC HIỆN | C1: Số giờ thực hiện | D1: Đơn giá/giờ | E1: Thành tiền
A2: I | B2: Xây dựng chương trình khung
A3: 1 | B3: Biên soạn | C3: 640 | D3: 30000 | E3: =D3*C3 -> 19200000
A4: 2 | B4: Sửa chữa và biên tập | C4: 192 | D4: 55000 | E4: =D4*C4 -> 10560000
A5: 3 | B5: Đọc phản biện và nhận xét | C5: 448 | D5: 40000 | E5: =D5*C5 -> 17920000
A6: II | B6: Xây dựng chương trình môn học
A7: 1 | B7: Biên soạn | C7: 640 | D7: 90000 | E7: =C7*D7 -> 57600000
A8: 2 | B8: Sửa chữa và biên tập | C8: 192 | D8: 55000 | E8: =C8*D8 -> 10560000
A9: 3 | B9: Đọc phản biện và nhận xét | C9: 448 | D9: 40000 | E9: =C9*D9 -> 17920000
A10: III | B10: Biên soạn giáo trình
A11: 1 | B11: Biên soạn | C11: 100 trang | D11: 110000 | E11: 4500000
A12: 2 | B12: Sửa chữa và biên tập | C12: 100 trang | D12: 25000 | E12: 2500000
A13: 3 | B13: Đọc phản biện và nhận xét | C13: 100 trang | D13: 20000 | E13: 2000000
A14: TỔNG CỘNG | E14: =SUM(E2:E13) -> 142760000
D16: =E14*10% -> 14276000
D17: 6
D18: =D16*D17 -> 85656000
A19: Trung cấp
A21: STT | B21: NỘI DUNG THỰC HIỆN | C21: Số giờ thực hiện | D21: Đơn giá/giờ | E21: Thành tiền
A22: I | B22: Xây dựng chương trình khung
A23: 1 | B23: Biên soạn | C23: 640 | D23: 25000 | E23: =D23*C23 -> 16000000
A24: 2 | B24: Sửa chữa và biên tập | C24: 192 | D24: 50000 | E24: =D24*C24 -> 9600000
A25: 3 | B25: Đọc phản biện và nhận xét | C25: 448 | D25: 35000 | E25: =D25*C25 -> 15680000
A26: II | B26: Xây dựng chương trình môn học
A27: 1 | B27: Biên soạn | C27: 640 | D27: 105000 | E27: =C27*D27 -> 67200000
A28: 2 | B28: Sửa chữa và biên tập | C28: 192 | D28: 25000 | E28: =C28*D28 -> 4800000
A29: 3 | B29: Đọc phản biện và nhận xét | C29: 448 | D29: 15000 | E29: =C29*D29 -> 6720000
A30: III | B30: Biên soạn giáo trình
A31: 1 | B31: Biên soạn | C31: 100 trang | D31: 45000 | E31: 4500000
A32: 2 | B32: Sửa chữa và biên tập | C32: 100 trang | D32: 25000 | E32: 2500000
A33: 3 | B33: Đọc phản biện và nhận xét | C33: 100 trang | D33: 20000 | E33: 2000000
A34: TỔNG CỘNG | E34: =SUM(E22:E33) -> 129000000
D36: =E34*10% -> 12900000
D37: 7
D38: =D36*D37 -> 90300000

Sheet THIETBI
A1: TỔNG KINH PHÍ - PHÂN KỲ DỰ ÁN (MỚI LẬP)
A3: TT | B3: NGHỀ | C3: Giá trị đầu tư | G3: TRỪ TÀI TRỢ | I3: TRƯỚC THUẾ | J3: SAU THUẾ
C4: TỔNG GIÁ TRỊ DA | D4: Năm 2018 | E4: Năm 2019 | F4: Năm 2020
A5: 1 | B5: Đầu tư hoạt động quản lý (1.1)+(1.2) | C5: =C6+C7 -> 1300000 | I5: =C5 -> 1300000
A6: 1.1 | B6: Xây dựng hệ thống đảm bảo chất lượng | C6: =D6+E6+F6 -> 1000000 | D6: 500000 | E6: 500000
A7: 1.2 | B7: Nâng cấp phần mềm quản lý đào tạo và phần mềm hành chính điện tử | C7: =D7+E7+F7 -> 300000 | D7: 100000 | E7: 100000 | F7: 100000
A8: 2 | B8: Đầu tư thiết bị dạy học | C8: =D8+E8+F8 -> 267374648 | D8: 8015172 | E8: 240630476 | F8: 18729000 | G8: =C8-GIATRIDAUTU!J21 -> 262334648 | H8: =G8-J8 -> 62659842 | I8: =H8/1.1 -> 56963493 | J8: 199674806
A9: 3 | B9: Đầu tư cơ sở vật chất | C9: =D9+E9+F9 -> 15800000 | D9: 15800000 | G9: =C9-GIATRIDAUTU!J22 -> 9800000 | I9: =G9/1.1 -> 8909090.9
A10: 4 | B10: Phát triển, xây dựng chương trình đào tạo | C10: =D10+E10+F10 -> 3000000 | D10: 3000000 | I10: =C10 -> 3000000
A11: 5 | B11: Đào tạo, bồi dưỡng đội ngũ nhà giáo, cán bộ quản lý | C11: =D11+E11+F11 -> 1500000 | D11: 1500000 | I11: =C11 -> 1500000
A12: 6 | B12: Cải tạo, nâng cấp hệ thống thông tin | C12: =D12+E12+F12 -> 4000000 | D12: 1000000 | E12: 1000000 | F12: 2000000 | I12: =C12 -> 4000000
A13: 7 | B13: Chi phí DA (7 chi phí) | C13: =D13+E13+F13 -> 15140995 | D13: 2799059.3 | E13: 8286220.4 | F13: 4055715.4
B14: CỘNG | C14: =C5+C8+C9+C10+C11+C12+C13 -> 3.0811564e+08 | D14: =D5+D8+D9+D10+D11+D12+D13 -> 32114231 | E14: =E5+E8+E9+E10+E11+E12+E13 -> 2.499167e+08 | F14: =F5+F8+F9+F10+F11+F12+F13 -> 24784715 | I14: =SUM(I5:I13) -> 75672584
B16: Mục 2 Đầu tư thiết bị dạy học năm 2019 | C16: Cơ khí | D16: =#REF! -> #REF!
C17: Các khoa còn lại | D17: =E8-D16 -> #REF!
C18: Tổng năm 2019 | D18: =D16+D17 -> #REF!
A20: TỔNG KINH PHÍ - PHÂN KỲ DỰ ÁN MỤC TIÊU (CŨ)
A22: TT | B22: NỘI DUNG ĐẦU TƯ | C22: TỔNG DA | D22: Giá trị đầu tư
D23: Năm 2018 | E23: Năm 2019 | F23: Năm 2020
A24: 1 | B24: Đầu tư hoạt động quản lý | C24: =C5 -> 1300000
A25: 1.1 | B25: Xây dựng hệ thống đảm bảo chất lượng | C25: =C6 -> 1000000 | D25: 500000 | E25: 500000
A26: 1.2 | B26: Nâng cấp phần mềm quản lý đào tạo và phần mềm hành chính điện tử | C26: =C7 -> 300000 | D26: 100000 | E26: 100000 | F26: 100000
A27: 2 | B27: Đầu tư thiết bị dạy học | C27: =D27+E27+F27 -> 112699842 | D27: 8015172 | E27: 70955670 | F27: 33729000
A28: 3 | B28: Đầu tư cơ sở vật chất | C28: =D28+E28+F28 -> 15800000 | D28: 15800000
A29: 4 | B29: Phát triển, xây dựng chương trình đào tạo | C29: =D29+E29+F29 -> 3527868 | D29: 3175956 | E29: 175956 | F29: 175956
A30: 5 | B30: Đào tạo, bồi dưỡng đội ngũ nhà giáo, cán bộ quản lý | C30: =D30+E30+F30 -> 3160000 | D30: 2124000 | E30: 543000 | F30: 493000
A31: 6 | B31: Cải tạo, nâng cấp hệ thống thông tin | C31: =D31+E31+F31 -> 4000000 | D31: 1000000 | E31: 1000000 | F31: 2000000
A32: 7 | B32: Chi phí khác | C32: =D32+E32+F32 -> 24435269 | D32: 2967708 | E32: 14329876 | F32: 7137685
B33: CỘNG | C33: =C24+C27+C28+C29+C30+C31+C32 -> 164922979 | D33: =SUM(D25:D32) -> 33682836 | E33: =SUM(E25:E32) -> 87604502 | F33: =SUM(F25:F32) -> 43635641

Sheet CÔNGTHUC
A1: =0,09-((0,09-0,08)*(18262722421-10000000000)/15000000000) | F1: Nb | K1: 0.475 | L1: Công thức:
F2: Na | K2: 0.65 | L2: Nt = Nb - [(Nb-Na)/(Ga-Gb)] x (Gt-Gb)
F3: Ga | K3: 10
F4: Gb | K4: 50
A5: Nt= | B5: Nb-(Nb-Na)/(Ga-Gb)*(Gt-Gb) | F5: Gt | L5: G: Quy mô giá trị
B6: =3.08-(3.08-2.99)/(500000000-200000000)*(261889273-200000000) -> 3.0614332 | F6: Nt | H6: =G6/100 -> 0 | L6: N: Định mức tư vấn
L7: a: Cận trên
L8: b: cận dưới
E9: Chi phí lập hồ sơ mời thầu và chi phí lựa chọn nhà thầu
B10: QLDA | C10: Lập DA báo cáo khả thi | D10: Chi phí thẩm định giá | E10: Thiết bị | G10: Xây dựng
A11: Nb | B11: 1.921 | C11: 0.534 | E11: 0.113
A12: Na | B12: 2.486 | C12: 0.751 | E12: 0.181
A13: Ga | B13: 100 | C13: 100 | E13: 100
A14: Gb | B14: 50 | C14: 50 | E14: 50
A15: Gt | B15: 76 | C15: 76 | E15: 63
A16: Nt | B16: =B11-(B11-B12)/(B13-B14)*(B15-B14) -> 2.2148 | C16: =C11-(C11-C12)/(C13-C14)*(C15-C14) -> 0.64684 | D16: =THIETBI!I14*2/100 -> 1513451.7 | E16: =E11-(E11-E12)/(E13-E14)*(E15-E14) -> 0.13068 | G16: 0.432
A19: Giám sát XD | C19: Giám sát TB | D19: Chi phí thẩm tra thiết kế dự toán | G19: ='[1]TONGCP(CONGTHUC)'!E12 -> 427681074656
C20: 0.394 | D20: 0.029 | G20: =G19*10% -> 4.2768107e+10
C21: 0.596 | D21: 0.028 | G21: =G19-G20 -> 3.8491297e+11
C22: 100 | D22: 2000
C23: 50 | D23: 1000 | G23: ='[1]TONGCP(CONGTHUC)'!E11 -> 808000000000
C24: 63 | D24: 727 | G24: =G23*10% -> 80800000000
A25: 3.285 | C25: =C20-(C20-C21)/(C22-C23)*(C24-C23) -> 0.44652 | D25: =D20-(D20-D21)/(D22-D23)*(D24-D23) -> 0.029273 | G25: =G23-G24 -> 727200000000
D27: Chi phí thẩm tra dự toán XD, dưới 10 tỷ (0,250)
C28: Chi phí thẩm định dự án | D28: Chi phí thẩm tra quyết toán | G28: Chi phí kiểm toán
C29: 0.0125 | D29: 0.375 | G29: 0.325
C30: 0.015 | D30: 0.475 | G30: 0.575
C31: 100 | D31: 100 | G31: 500
C32: 50 | D32: 50 | G32: 100
C33: 76 | D33: 76 | G33: 122
C34: =C29-(C29-C30)/(C31-C32)*(C33-C32) -> 0.0138 | D34: =D29-(D29-D30)/(D31-D32)*(D33-D32) -> 0.427 | G34: =G29-(G29-G30)/(G31-G32)*(G33-G32) -> 0.33875

Sheet Sheet6
A1: Chi phí quản lý DA | C1: (Trừ thuế 10% Tbi+XLắp) | D1: =THIETBI!I14*CÔNGTHUC!B16/100 -> 1675996.4 | E1: 79
A2: Chi phí lập DA báo cáo khả thi | B2: =(I+II+III)*Hệ số nội suy | C2: (Trừ thuế 10% Tbi+XLắp) | D2: =THIETBI!I14*CÔNGTHUC!C16/100 -> 489480.54 | E2: 79
A3: Chi phí thẩm định giá | B3: Chỉ tính thẩm định trên thiết bị | D3: =THIETBI!H8*2/100 -> 1253196.8 | E3: 0.02
A4: Chi phí lập hồ sơ mời thầu và chi phí lựa chọn nhà thầu TB | D4: =THIETBI!H8*CÔNGTHUC!E16/100 -> 81883.882 | E4: 79
A5: Chi phí lập hồ sơ mời thầu và chi phí lựa chọn nhà thầu XD | D5: =THIETBI!G9*CÔNGTHUC!G16/100 -> 42336 | E5: ND 63 hoặc Luật đấu thâu
A6: Chi phí phê duyệt, thẩm định kết quả lựa chọn nhà thầu | D6: 50000 | E6: 79
A7: Chi phí giám sát lắp đặt thiết bị | D7: =THIETBI!I8*CÔNGTHUC!C25/100 -> 254353.39
A8: Chi phí thẩm tra dự toán xây dựng | B8: Chỉ tính trên phần XD | D8: =THIETBI!G9*0.25/100 -> 24500 | E8: TT 75 btc hoac TT 176 BTC
A9: Chi phí thẩm định dự án | D9: =THIETBI!I14*CÔNGTHUC!C34/100 -> 10442.817 | E9: TT 209/TT- btc năm 2016 hoac TT 176 BTC
A10: Chi phí thẩm tra quyết toán | B10: Tổng mức đầu tư*HS nội suy | D10: =THIETBI!I14*CÔNGTHUC!D34/100 -> 323121.93 | E10: TT 09 BTC
A11: Chi phí dự phòng | E11: btc hoac TT 176 BTC
A12: Dự phòng cho yếu tố phát sinh khối lượng (10%) | C12: (I+II+III+IV)*10% | D12: =THIETBI!I14*10% -> 7567258.4 | E12: TT 06/2016/TT-BXD
A13: Dự phòng cho yếu tố trượt giá | C13: (I+II+III+IV)*5% | D13: 3368425
A14: Tổng chi phí | D14: =SUM(D1:D13) -> 15140995
D16: 15140995
D17: =D14-D16 -> 0.14392851
D19: =D13-D17 -> 3368424.9

Sheet BANGCHIPHI
C1: ĐVT: ngàn đồng
A2: STT | B2: Hạng mục chi phí | C2: Giá trị
A3: 1 | B3: Kinh phí đầu tư cho hoạt động quản lý | C3: =GIATRIDAUTU!C18 -> 1300000
A4: 2 | B4: Kinh phí mua sắm thiết bị đào tạo | C4: =GIATRIDAUTU!C21 -> 267374648
A5: 3 | B5: Kinh phí cải tạo, sửa chữa một số hạng mục công trình nhà xưởng thực hành | C5: =GIATRIDAUTU!C22 -> 15800000
A6: 4 | B6: Kinh phí xây dựng chương trình, giáo trình | C6: =GIATRIDAUTU!C23 -> 3000000
A7: 5 | B7: Kinh phí đào tạo, bồi dưỡng nhà giáo và cán bộ quản lý | C7: =GIATRIDAUTU!C24 -> 1500000
A8: 6 | B8: Kinh phí cải tạo, nâng cấp hệ thống thông tin | C8: =GIATRIDAUTU!C25 -> 4000000
A9: 7 | B9: Chi phí quản lý DA | C9: =Sheet6!D1 -> 1675996.4
A10: 8 | B10: Chi phí lập DA báo cáo khả thi | C10: =Sheet6!D2 -> 489480.54
A11: 9 | B11: Chi phí thẩm định giá | C11: =Sheet6!D3 -> 1253196.8
A12: 10 | B12: Chi phí lập hồ sơ mời thầu và chi phí lựa chọn nhà thầu TB | C12: =Sheet6!D4 -> 81883.882
A13: 11 | B13: Chi phí lập hồ sơ mời thầu và chi phí lựa chọn nhà thầu XD | C13: =Sheet6!D5 -> 42336
A14: 12 | B14: Chi phí phê duyệt, thẩm định kết quả lựa chọn nhà thầu | C14: =Sheet6!D6 -> 50000
A15: 14 | B15: Chi phí giám sát lắp đặt thiết bị | C15: =Sheet6!D7 -> 254353.39
A16: 15 | B16: Chi phí thẩm tra dự toán xây dựng | C16: =Sheet6!D8 -> 24500
A17: 16 | B17: Chi phí thẩm định dự án | C17: =Sheet6!D9 -> 10442.817
A18: 17 | B18: Chi phí thẩm tra quyết toán | C18: =Sheet6!D10 -> 323121.93
A19: 18 | B19: Chi phí dự phòng do phát sinh khối lượng (10%) | C19: =Sheet6!D12 -> 7567258.4
A20: 19 | B20: Chi phí dự phòng do yếu tố trượt giá (5%) | C20: =Sheet6!D13 -> 3368425
B21: Tổng cộng | C21: =SUM(C3:C20) -> 3.0811564e+08

Sheet GIATRIDAUTU
A1: TT | B1: NGHỀ | C1: Giá trị đầu tư | G1: Nguồn vốn
C2: TỔNG GIÁ TRỊ DA | D2: Năm 2018 | E2: Năm 2019 | F2: Năm 2020 | G2: Chương trình mục tiêu | H2: Thành phố | I2: Thu sự nghiệp | J2: Tài trợ | L2: Giá trị trang bị (trừ tài trợ)
A3: 1 | B3: Đầu tư hoạt động quản lý (1.1)+(1.2) | C3: =C4+C5 -> 1300000 | I3: =C3 -> 1300000 | L3: =C3 -> 1300000
A4: 1.1 | B4: Xây dựng hệ thống đảm bảo chất lượng | C4: =D4+E4+F4 -> 1000000 | D4: 500000 | E4: 500000
A5: 1.2 | B5: Nâng cấp phần mềm quản lý đào tạo và phần mềm hành chính điện tử | C5: =D5+E5+F5 -> 300000 | D5: 100000 | E5: 100000 | F5: 100000
A6: 2 | B6: Đầu tư thiết bị dạy học | C6: =D6+E6+F6 -> 267374648 | D6: 8015172 | E6: 240630476 | F6: 18729000 | G6: =C6-(H6+J6) -> 62659842 | H6: 199674806 | J6: 5040000 | L6: =C6-(H6+J6) -> 62659842
A7: 3 | B7: Đầu tư cơ sở vật chất | C7: =D7+E7+F7 -> 15800000 | D7: 8800000 | E7: 3000000 | F7: 4000000 | I7: 9800000 | J7: 6000000 | L7: =C7-J7 -> 9800000
A8: 4 | B8: Phát triển, xây dựng chương trình đào tạo | C8: =D8+E8+F8 -> 3000000 | D8: 3000000 | J8: 3000000
A9: 5 | B9: Đào tạo, bồi dưỡng đội ngũ nhà giáo, cán bộ quản lý | C9: =D9+E9+F9 -> 1500000 | D9: 1500000 | J9: 1500000
A10: 6 | B10: Cải tạo, nâng cấp hệ thống thông tin | C10: =D10+E10+F10 -> 4000000 | D10: 1000000 | E10: 1000000 | F10: 2000000 | I10: =C10 -> 4000000 | L10: =I10 -> 4000000
C11: =C3+C6+C7+C8+C9+C10 -> 292974648 | D11: =SUM(D3:D10) -> 22915172 | E11: =SUM(E3:E10) -> 245230476 | F11: =SUM(F3:F10) -> 24829000 | G11: =SUM(G3:G10) -> 62659842 | H11: =SUM(H3:H10) -> 199674806 | I11: =SUM(I3:I10) -> 15100000 | J11: =SUM(J3:J10) -> 15540000 | L11: =SUM(L3:L10) -> 77759842 | M11: 15140995
L12: =D11-(J6+J7+J8+J9) -> 7375172 | M12: =(L12*M11)/L11 -> 1436055.4
L13: =L11 -> 77759842 | M13: 15140995
A14: TỔNG KINH PHÍ - PHÂN KỲ DỰ ÁN (MỚI LẬP) | L14: =E11-H6 -> 45555670 | M14: =(L14*M13)/L13 -> 8870364.9
I15: ĐVT: ngàn đồng
A16: TT | B16: NGHỀ | C16: Giá trị đầu tư | G16: Nguồn vốn | L16: =L13 -> 77759842 | M16: =M13 -> 15140995
C17: TỔNG GIÁ TRỊ DA | D17: Năm 2018 | E17: Năm 2019 | F17: Năm 2020 | G17: Chương trình mục tiêu | H17: Thành phố | I17: Thu sự nghiệp | J17: Tài trợ | L17: =F11 -> 24829000 | M17: =(L17*M16)/L16 -> 4834574.7
A18: 1 | B18: Đầu tư hoạt động quản lý (1.1)+(1.2) | C18: =C19+C20 -> 1300000 | I18: =C18 -> 1300000 | L18: =L12+L14+L17 -> 77759842
A19: 1.1 | B19: Xây dựng hệ thống đảm bảo chất lượng | C19: =D19+E19+F19 -> 1000000 | D19: 500000 | E19: 500000
A20: 1.2 | B20: Nâng cấp phần mềm quản lý đào tạo và phần mềm hành chính điện tử | C20: =D20+E20+F20 -> 300000 | D20: 100000 | E20: 100000 | F20: 100000
A21: 2 | B21: Đầu tư thiết bị dạy học | C21: =D21+E21+F21 -> 267374648 | D21: 8015172 | E21: 240630476 | F21: 18729000 | G21: =C21-(H21+J21) -> 62659842 | H21: 199674806 | J21: 5040000
A22: 3 | B22: Đầu tư cơ sở vật chất | C22: =D22+E22+F22 -> 15800000 | D22: 8800000 | E22: 3000000 | F22: 4000000 | I22: 9800000 | J22: 6000000
A23: 4 | B23: Phát triển, xây dựng chương trình đào tạo | C23: =D23+E23+F23 -> 3000000 | D23: 3000000 | J23: 3000000
A24: 5 | B24: Đào tạo, bồi dưỡng đội ngũ nhà giáo, cán bộ quản lý | C24: =D24+E24+F24 -> 1500000 | D24: 1500000 | J24: 1500000
A25: 6 | B25: Cải tạo, nâng cấp hệ thống thông tin | C25: =D25+E25+F25 -> 4000000 | D25: 1000000 | E25: 1000000 | F25: 2000000 | I25: =C25 -> 4000000
A26: 7 | B26: Chi phí DA (7 chi phí) | C26: =D26+E26+F26 -> 15140995 | D26: =M12 -> 1436055.4 | E26: =M14 -> 8870364.9 | F26: =M17 -> 4834574.7 | I26: =C26 -> 15140995
B27: CỘNG | C27: =C18+C21+C22+C23+C24+C25+C26 -> 308115643 | D27: =D18+D21+D22+D23+D24+D25+D26 -> 23751227 | E27: =E18+E21+E22+E23+E24+E25+E26 -> 2.5350084e+08 | F27: =F18+F21+F22+F23+F24+F25+F26 -> 29563575 | G27: =SUM(G18:G26) -> 62659842 | H27: =SUM(H18:H25) -> 199674806 | I27: =SUM(I18:I26) -> 30240995 | J27: =SUM(J18:J26) -> 15540000
A30: TT | B30: NGHỀ | C30: Giá trị đầu tư | G30: Nguồn vốn
C31: TỔNG GIÁ TRỊ DA | D31: Năm 2018 | E31: Năm 2019 | F31: Năm 2020 | G31: Chương trình mục tiêu | H31: Thành phố | I31: Thu sự nghiệp | J31: Tài trợ | M31: 500000 | N31: 500000
A32: 1 | B32: Đầu tư hoạt động quản lý (1.1)+(1.2) | C32: =C33+C34 -> 1300000 | I32: =C32 -> 1300000 | M32: 100000 | N32: 100000 | O32: 100000
A33: 1.1 | B33: Xây dựng hệ thống đảm bảo chất lượng | C33: =D33+E33+F33 -> 1000000 | D33: 500000 | E33: 500000 | M33: =D35-J35 -> 2975172 | N33: =E35 -> 240630476 | O33: 18729000
A34: 1.2 | B34: Nâng cấp phần mềm quản lý đào tạo và phần mềm hành chính điện tử | C34: =D34+E34+F34 -> 300000 | D34: 100000 | E34: 100000 | F34: 100000 | M34: 2800000 | N34: 3000000 | O34: 4000000
A35: 2 | B35: Đầu tư thiết bị dạy học | C35: =D35+E35+F35 -> 267374648 | D35: 8015172 | E35: 240630476 | F35: 18729000 | G35: =C35-(H35+J35) -> 62659842 | H35: 199674806 | J35: 5040000
A36: 3 | B36: Đầu tư cơ sở vật chất | C36: =D36+E36+F36 -> 9800000 | D36: 2800000 | E36: 3000000 | F36: 4000000 | I36: 9800000 | J36: 6000000
A37: 4 | B37: Phát triển, xây dựng chương trình đào tạo | C37: =D37+E37+F37 -> 3000000 | D37: 3000000 | J37: 3000000 | M37: 1000000 | N37: 1000000 | O37: 2000000
A38: 5 | B38: Đào tạo, bồi dưỡng đội ngũ nhà giáo, cán bộ quản lý | C38: =D38+E38+F38 -> 1500000 | D38: 1500000 | J38: 1500000 | M38: =SUM(M31:M37) -> 7375172 | N38: =SUM(N31:N37) -> 245230476 | O38: =SUM(O31:O37) -> 24829000
A39: 6 | B39: Cải tạo, nâng cấp hệ thống thông tin | C39: =D39+E39+F39 -> 4000000 | D39: 1000000 | E39: 1000000 | F39: 2000000 | I39: =C39 -> 4000000 | M39: =D26 -> 1436055.4 | N39: =E26 -> 8870364.9 | O39: =F26 -> 4834574.7
C40: =C32+C35+C36+C37+C38+C39 -> 286974648 | D40: =SUM(D32:D39) -> 16915172 | E40: =SUM(E32:E39) -> 245230476 | F40: =SUM(F32:F39) -> 24829000 | G40: =SUM(G32:G39) -> 62659842 | H40: =SUM(H32:H39) -> 199674806 | I40: =SUM(I32:I39) -> 15100000 | J40: =SUM(J32:J39) -> 15540000 | M40: =M38+M39 -> 8811227.4 | N40: =N38+N39 -> 2.5410084e+08 | O40: =O38+O39 -> 29663575
M41: =J40 -> 15540000
M42: =M41+M40 -> 24351227 | N42: =N40 -> 2.5410084e+08 | O42: =O40 -> 29663575

Sheet Sheet1
H2: ĐVT: ngàn đồng
A3: TT | B3: NỘI DUNG ĐẦU TƯ | C3: Giá trị đầu tư | G3: Hình thức đầu tư
C4: TỔNG GIÁ TRỊ DỰ ÁN | D4: Năm 2018 | E4: Năm 2019 | F4: Năm 2020 | G4: Mua sắm trực tiếp | H4: Tài trợ | I4: Tổng kinh phí
A5: A | B5: B | C5: (1)=(2)+(3)+(4) | D5: (2) | E5: (3) | F5: (4) | G5: (5) | H5: (6) | I5: (7)=(5)+(6)
A6: 1 | B6: Đầu tư hoạt động quản lý | C6: =C7+C8 -> 1300000 | G6: =C6 -> 1300000 | I6: =G6+H6 -> 1300000
A7: 1.1 | B7: Xây dựng hệ thống đảm bảo chất lượng | C7: =D7+E7+F7 -> 1000000 | D7: 500000 | E7: 500000
A8: 1.2 | B8: Nâng cấp phần mềm quản lý đào tạo và phần mềm hành chính điện tử | C8: =D8+E8+F8 -> 300000 | D8: 100000 | E8: 100000 | F8: 100000
A9: 2 | B9: Đầu tư thiết bị dạy học | C9: =D9+E9+F9 -> 267374648 | D9: 8015172 | E9: 240630476 | F9: 18729000 | G9: =C9-H9 -> 262334648 | H9: =GIATRIDAUTU!J21 -> 5040000 | I9: =G9+H9 -> 267374648
A10: 3 | B10: Đầu tư cơ sở vật chất | C10: =D10+E10+F10 -> 15800000 | D10: 8800000 | E10: 3000000 | F10: 4000000 | G10: =C10-H10 -> 9800000 | H10: =GIATRIDAUTU!J22 -> 6000000 | I10: =G10+H10 -> 15800000
A11: 4 | B11: Phát triển, xây dựng chương trình đào tạo | C11: =D11+E11+F11 -> 3000000 | D11: 3000000 | H11: =GIATRIDAUTU!J23 -> 3000000 | I11: =G11+H11 -> 3000000
A12: 5 | B12: Đào tạo, bồi dưỡng đội ngũ nhà giáo, cán bộ quản lý | C12: =D12+E12+F12 -> 1500000 | D12: 1500000 | H12: =GIATRIDAUTU!J24 -> 1500000 | I12: =G12+H12 -> 1500000
A13: 6 | B13: Cải tạo, nâng cấp hệ thống thông tin | C13: =D13+E13+F13 -> 4000000 | D13: 1000000 | E13: 1000000 | F13: 2000000 | G13: =C13-H13 -> 4000000 | I13: =G13+H13 -> 4000000
A14: 7 | B14: Chi phí quản lý dự án và các chi phí khác | C14: =D14+E14+F14 -> 15140995 | D14: =GIATRIDAUTU!D26 -> 1436055.4 | E14: =GIATRIDAUTU!E26 -> 8870364.9 | F14: =GIATRIDAUTU!F26 -> 4834574.7 | G14: =C14-H14 -> 15140995 | I14: =G14+H14 -> 15140995
B15: CỘNG | C15: =C6+C9+C10+C11+C12+C13+C14 -> 308115643 | D15: =SUM(D7:D14) -> 24351227 | E15: =SUM(E7:E14) -> 2.5410084e+08 | F15: =SUM(F7:F14) -> 29663575 | G15: =SUM(G6:G14) -> 292575643 | H15: =SUM(H6:H14) -> 15540000 | I15: =SUM(I6:I14) -> 308115643
E21: ĐVT: ngàn đồng
A22: TT | B22: TÊN NGHỀ ĐẦU TƯ | C22: Năm 2018 | D22: Năm 2019 | E22: Năm 2020 | F22: TỔNG CỘNG
A23: 1 | B23: Công nghệ Ô tô | C23: 838451 | D23: 9568000 | E23: 9116000 | F23: =C23+D23+E23 -> 19522451
A24: 2 | B24: Cơ khí chế tạo | D24: 163711806 | F24: =D24 -> 163711806
A25: 3 | B25: Công nghệ Kỹ thuật Cơ khí | D25: 35963000 | F25: =C25+D25+E25 -> 35963000
A26: 4 | B26: Điện công nghiệp | D26: 10946430 | F26: =C26+D26+E26 -> 10946430
A27: 5 | B27: Cơ điện tử | C27: 695535 | D27: 10557240 | F27: =C27+D27+E27 -> 11252775
A28: 6 | B28: Công nghệ Kỹ thuật Điện-Điện tử | C28: 721924 | F28: =C28+D28+E28 -> 721924
A29: 7 | B29: Quản trị mạng máy tính | C29: 719262 | D29: 9884000 | E29: 9613000 | F29: =C29+D29+E29 -> 20216262
B30: CỘNG | C30: =SUM(C23:C29) -> 2975172 | D30: =SUM(D23:D29) -> 240630476 | E30: =SUM(E23:E29) -> 18729000 | F30: =SUM(F23:F29) -> 262334648

Sheet Sheet2
E2: ĐVT: ngàn đồng
A3: TT | B3: NỘI DUNG ĐẦU TƯ | C3: Giá trị đầu tư
C4: TỔNG GIÁ TRỊ DỰ ÁN | D4: Năm 2018 | E4: Năm 2019 | F4: Năm 2020
A5: A | B5: B | C5: (1) | D5: (2) | E5: (3) | F5: (4)
A6: 1 | B6: Đầu tư hoạt động quản lý (1.1)+(1.2) | C6: =C7+C8 -> 1300000
A7: 1.1 | B7: Xây dựng hệ thống đảm bảo chất lượng | C7: =D7+E7+F7 -> 1000000 | D7: 500000 | E7: 500000
A8: 1.2 | B8: Nâng cấp phần mềm quản lý đào tạo và phần mềm hành chính điện tử | C8: =D8+E8+F8 -> 300000 | D8: 100000 | E8: 100000 | F8: 100000
A9: 2 | B9: Đầu tư thiết bị dạy học | C9: =D9+E9+F9 -> 267374648 | D9: 8015172 | E9: 240630476 | F9: 18729000
A10: 3 | B10: Đầu tư cơ sở vật chất | C10: =D10+E10+F10 -> 15800000 | D10: 15800000
A11: 4 | B11: Phát triển, xây dựng chương trình đào tạo | C11: =D11+E11+F11 -> 3000000 | D11: 3000000
A12: 5 | B12: Đào tạo, bồi dưỡng đội ngũ nhà giáo, cán bộ quản lý | C12: =D12+E12+F12 -> 1500000 | D12: 1500000
A13: 6 | B13: Cải tạo, nâng cấp hệ thống thông tin | C13: =D13+E13+F13 -> 4000000 | D13: 1000000 | E13: 1000000 | F13: 2000000
A14: 7 | B14: Chi phí quản lý dự án và các chi phí khác (*) | C14: =D14+E14+F14 -> 15140995 | D14: 2799059.3 | E14: 8286220.4 | F14: 4055715.4
B15: CỘNG | C15: =C6+C9+C10+C11+C12+C13+C14 -> 3.0811564e+08 | D15: =D6+D9+D10+D11+D12+D13+D14 -> 32114231 | E15: =E6+E9+E10+E11+E12+E13+E14 -> 2.499167e+08 | F15: =F6+F9+F10+F11+F12+F13+F14 -> 24784715
E19: ĐVT: ngàn đồng
A20: TT | B20: TÊN NGHỀ ĐẦU TƯ | C20: Năm 2018 | D20: Năm 2019 | E20: Năm 2020 | F20: TỔNG CỘNG
A21: 1 | B21: Công nghệ Ô tô | C21: 838451 | D21: 9568000 | E21: 9116000 | F21: =C21+D21+E21 -> 19522451
A22: 2 | B22: Cơ khí chế tạo | D22: 163711806 | F22: =D22 -> 163711806
A23: 3 | B23: Công nghệ Kỹ thuật Cơ khí | D23: 35963000 | F23: =C23+D23+E23 -> 35963000
A24: 4 | B24: Điện công nghiệp | D24: 10946430 | F24: =C24+D24+E24 -> 10946430
A25: 5 | B25: Cơ điện tử | C25: 695535 | D25: 10557240 | F25: =C25+D25+E25 -> 11252775
A26: 6 | B26: Công nghệ Kỹ thuật Điện-Điện tử | C26: 721924 | F26: =C26+D26+E26 -> 721924
A27: 7 | B27: Quản trị mạng máy tính | C27: 719262 | D27: 9884000 | E27: 9613000 | F27: =C27+D27+E27 -> 20216262
B28: CỘNG | C28: =SUM(C21:C27) -> 2975172 | D28: =SUM(D21:D27) -> 240630476 | E28: =SUM(E21:E27) -> 18729000 | F28: =SUM(F21:F27) -> 262334648

Sheet Sheet7
A1: TT | B1: NỘI DUNG | C1: Ký hiệu | D1: Cách tính | E1: Giá trị trước thuế | F1: Thuế VAT | G1: Thành tiền sau thuế
A2: I | B2: CHI PHÍ THIẾT BỊ | C2: Gtb | E2: 166712418182 | F2: 16671241818 | G2: 183383660000
A3: II | B3: CHI PHÍ QUẢN LÝ DỰ ÁN | C3: Gql | D3: Gtb x 1,838% | E3: 3064174246 | F3: 306417425 | G3: 3370591671
A4: III | B4: CHI PHÍ TƯ VẤN | C4: Gtv | E4: 2027223005 | F4: 202722301 | G4: 2229945306
A5: 1 | B5: Chi phí lập báo cáo nghiên cứu khả thi | D5: Gtb x 0,446% | E5: 743537385 | F5: 74353739 | G5: 817891124
A6: 2 | B6: Chi phí thẩm tra báo cáo nghiên cứu khả thi | D6: Gtb x 0,079% | E6: 131702810 | F6: 13170281 | G6: 144873091
A7: 3 | B7: Chi phí thẩm định giá thiết bị | D7: Gtb x 0,2% | E7: 333424836 | F7: 33342484 | G7: 366767320
A8: 4 | B8: Chi phí lập hồ sơ mời thầu, đánh giá hồ sơ dự thầu mua sắm vậy tư thiết bị | D8: Gtb x 0,106% | E8: 176715163 | F8: 17671516 | G8: 194386680
A9: 5 | B9: Chi phí thẩm định kết quả lựa chọn nhà thầu cung cấp thiết bị | D9: Gtb x 0,05% | E9: 83356209 | F9: 8335621 | G9: 91691830
A10: 6 | B10: Chi phí giám sát lắp đặt thiết bị | D10: Gtb x 0,335% | E10: 558486601 | F10: 55848660 | G10: 614335261
A11: IV | B11: CHI PHÍ KHÁC | C11: Gk | E11: 1074804669 | F11: 107480467 | G11: 1182285136
A12: 1 | B12: Chi phí thẩm tra quyết toán vốn | D12: [(Gtb + Gql + Gtv) x 0,348%]x70% | E12: 418514094 | F12: 41851409 | G12: 460365504
A13: 2 | B13: Chi phí Kiểm toán | D13: [(Gtb + Gql + Gtv) x 0,53%]x70% | E13: 637392155 | F13: 63739216 | G13: 701131371
A14: 3 | B14: Chi phí thẩm định dự án | D14: (Gtb + Gql + Gtv) x 0,011% | E14: 18898420 | F14: 1889842 | G14: 20788262
A15: V | B15: CHI PHÍ DỰ PHÒNG | C15: Gdp | D15: Gdp=Gdp1+Gdp2 | E15: 8643931005 | F15: 864393101 | G15: 9508324106
A16: 1 | B16: Chi phí dự phòng do khối lượng công việc phát sinh | C16: Gdp1 | E16: 0 | F16: 0 | G16: 0
A17: 2 | B17: Chi phí dự phòng do trượt giá | C17: Gdp2 | D17: (Gtb + Gql + Gtv + Gk) x 5% | E17: 8643931005 | F17: 864393101 | G17: 9508324106
A18: VI | B18: TỔNG KHÁI TOÁN | E18: 181522551108 | F18: 18152255111 | G18: 199674806218
A19: VII | B19: TỔNG KHÁI TOÁN (làm tròn) | G19: 199674806000
